Workbook

Sheet Übersicht
B2: NurGeld Schuldenabbau-Planer Pro
B4: Schulden systematisch abbauen, passende Tilgungsstrategie wählen und den Weg bis zur Schuldenfreiheit automatisch planen.
B7: Gesamtschulden | G7: Monatsbudget | L7: Voraussichtlich schuldenfrei
B8: =SUM(Schulden!E8:E22) | G8: =Strategie!C10 | L8: =IFERROR(INDEX(Monatsplan!B8:B127,MATCH(0,Monatsplan!G8:G127,0)),"über 10 Jahre")
B11: Gelbe Felder sind Eingaben. Hellblaue Felder werden automatisch berechnet. Mindestzahlungen, Zinsen, Zusatzbudget und Sonderzahlungen fließen automatisch in die Planung ein.
B15: Steuerungsübersicht
B16: Kennzahl | C16: Wert | D16: Einordnung
B17: Anzahl Schulden | C17: =COUNTIF(Schulden!C8:C22,"<>") | D17: Erfasste Verbindlichkeiten
B18: Summe Mindestzahlungen | C18: =SUM(Schulden!G8:G22) | D18: Monatlich vertraglich gebunden
B19: Zusätzlicher Monatsbetrag | C19: =Strategie!C9 | D19: Frei verfügbares Extra-Budget
B20: Gewählte Strategie | C20: =Strategie!C8 | D20: Avalanche, Snowball oder eigene Priorität
B21: Gewichteter Durchschnittszins | C21: =IFERROR(SUMPRODUCT(Schulden!E8:E22,Schulden!F8:F22)/SUM(Schulden!E8:E22),0) | D21: Nach aktuellem Schuldenstand
B22: Sonderzahlungen geplant | C22: =SUM(Sonderzahlungen!D8:D67) | D22: Zusätzliche Tilgung
B25: Schulden nach Zinshöhe
B26: Zinsklasse | C26: Restschuld
B27: 0–4,99 % | C27: =SUMIFS(Schulden!E8:E22,Schulden!F8:F22,">=0",Schulden!F8:F22,"<0.05")
B28: 5–9,99 % | C28: =SUMIFS(Schulden!E8:E22,Schulden!F8:F22,">=0.05",Schulden!F8:F22,"<0.10")
B29: 10–14,99 % | C29: =SUMIFS(Schulden!E8:E22,Schulden!F8:F22,">=0.10",Schulden!F8:F22,"<0.15")
B30: ab 15 % | C30: =SUMIFS(Schulden!E8:E22,Schulden!F8:F22,">=0.15")

Sheet Schulden
B2: NurGeld Schuldenübersicht
B4: Alle Verbindlichkeiten mit Restschuld, Zinssatz, Mindestzahlung und Priorität erfassen. Bis zu 15 Schulden können parallel geplant werden.
B7: ID | C7: Gläubiger / Kredit | D7: Schuldenart | E7: Startschuld | F7: Aktuelle Restschuld | G7: Zins p.a. | H7: Mindestzahlung | I7: Fälligkeit | J7: Eigene Priorität | K7: Strategie-Rang | L7: Status | M7: Notiz
B8: =IF(C8="","","S-"&TEXT(ROW()-7,"000")) | J8: =IF(C8="","",IF(Strategie!$C$8="Eigene Priorität",I8,IF(Strategie!$C$8="Avalanche",COUNTIFS($F$8:$F$22,">"&F8,$L$8:$L$22,"Aktiv")+COUNTIFS($F$8:F8,F8,$L$8:L8,"Aktiv"),COUNTIFS($E$8:$E$22,"<"&E8,$L$8:$L$22,"Aktiv")+COUNTIFS($E$8:E8,E8,$L$8:L8,"Aktiv")))) | L8: =IF(C8="","",IF(E8<=0,"Erledigt","Aktiv"))
B9: =IF(C9="","","S-"&TEXT(ROW()-7,"000")) | J9: =IF(C9="","",IF(Strategie!$C$8="Eigene Priorität",I9,IF(Strategie!$C$8="Avalanche",COUNTIFS($F$8:$F$22,">"&F9,$L$8:$L$22,"Aktiv")+COUNTIFS($F$8:F9,F9,$L$8:L9,"Aktiv"),COUNTIFS($E$8:$E$22,"<"&E9,$L$8:$L$22,"Aktiv")+COUNTIFS($E$8:E9,E9,$L$8:L9,"Aktiv")))) | L9: =IF(C9="","",IF(E9<=0,"Erledigt","Aktiv"))
B10: =IF(C10="","","S-"&TEXT(ROW()-7,"000")) | J10: =IF(C10="","",IF(Strategie!$C$8="Eigene Priorität",I10,IF(Strategie!$C$8="Avalanche",COUNTIFS($F$8:$F$22,">"&F10,$L$8:$L$22,"Aktiv")+COUNTIFS($F$8:F10,F10,$L$8:L10,"Aktiv"),COUNTIFS($E$8:$E$22,"<"&E10,$L$8:$L$22,"Aktiv")+COUNTIFS($E$8:E10,E10,$L$8:L10,"Aktiv")))) | L10: =IF(C10="","",IF(E10<=0,"Erledigt","Aktiv"))
B11: =IF(C11="","","S-"&TEXT(ROW()-7,"000")) | J11: =IF(C11="","",IF(Strategie!$C$8="Eigene Priorität",I11,IF(Strategie!$C$8="Avalanche",COUNTIFS($F$8:$F$22,">"&F11,$L$8:$L$22,"Aktiv")+COUNTIFS($F$8:F11,F11,$L$8:L11,"Aktiv"),COUNTIFS($E$8:$E$22,"<"&E11,$L$8:$L$22,"Aktiv")+COUNTIFS($E$8:E11,E11,$L$8:L11,"Aktiv")))) | L11: =IF(C11="","",IF(E11<=0,"Erledigt","Aktiv"))
B12: =IF(C12="","","S-"&TEXT(ROW()-7,"000")) | J12: =IF(C12="","",IF(Strategie!$C$8="Eigene Priorität",I12,IF(Strategie!$C$8="Avalanche",COUNTIFS($F$8:$F$22,">"&F12,$L$8:$L$22,"Aktiv")+COUNTIFS($F$8:F12,F12,$L$8:L12,"Aktiv"),COUNTIFS($E$8:$E$22,"<"&E12,$L$8:$L$22,"Aktiv")+COUNTIFS($E$8:E12,E12,$L$8:L12,"Aktiv")))) | L12: =IF(C12="","",IF(E12<=0,"Erledigt","Aktiv"))
B13: =IF(C13="","","S-"&TEXT(ROW()-7,"000")) | J13: =IF(C13="","",IF(Strategie!$C$8="Eigene Priorität",I13,IF(Strategie!$C$8="Avalanche",COUNTIFS($F$8:$F$22,">"&F13,$L$8:$L$22,"Aktiv")+COUNTIFS($F$8:F13,F13,$L$8:L13,"Aktiv"),COUNTIFS($E$8:$E$22,"<"&E13,$L$8:$L$22,"Aktiv")+COUNTIFS($E$8:E13,E13,$L$8:L13,"Aktiv")))) | L13: =IF(C13="","",IF(E13<=0,"Erledigt","Aktiv"))
B14: =IF(C14="","","S-"&TEXT(ROW()-7,"000")) | J14: =IF(C14="","",IF(Strategie!$C$8="Eigene Priorität",I14,IF(Strategie!$C$8="Avalanche",COUNTIFS($F$8:$F$22,">"&F14,$L$8:$L$22,"Aktiv")+COUNTIFS($F$8:F14,F14,$L$8:L14,"Aktiv"),COUNTIFS($E$8:$E$22,"<"&E14,$L$8:$L$22,"Aktiv")+COUNTIFS($E$8:E14,E14,$L$8:L14,"Aktiv")))) | L14: =IF(C14="","",IF(E14<=0,"Erledigt","Aktiv"))
B15: =IF(C15="","","S-"&TEXT(ROW()-7,"000")) | J15: =IF(C15="","",IF(Strategie!$C$8="Eigene Priorität",I15,IF(Strategie!$C$8="Avalanche",COUNTIFS($F$8:$F$22,">"&F15,$L$8:$L$22,"Aktiv")+COUNTIFS($F$8:F15,F15,$L$8:L15,"Aktiv"),COUNTIFS($E$8:$E$22,"<"&E15,$L$8:$L$22,"Aktiv")+COUNTIFS($E$8:E15,E15,$L$8:L15,"Aktiv")))) | L15: =IF(C15="","",IF(E15<=0,"Erledigt","Aktiv"))
B16: =IF(C16="","","S-"&TEXT(ROW()-7,"000")) | J16: =IF(C16="","",IF(Strategie!$C$8="Eigene Priorität",I16,IF(Strategie!$C$8="Avalanche",COUNTIFS($F$8:$F$22,">"&F16,$L$8:$L$22,"Aktiv")+COUNTIFS($F$8:F16,F16,$L$8:L16,"Aktiv"),COUNTIFS($E$8:$E$22,"<"&E16,$L$8:$L$22,"Aktiv")+COUNTIFS($E$8:E16,E16,$L$8:L16,"Aktiv")))) | L16: =IF(C16="","",IF(E16<=0,"Erledigt","Aktiv"))
B17: =IF(C17="","","S-"&TEXT(ROW()-7,"000")) | J17: =IF(C17="","",IF(Strategie!$C$8="Eigene Priorität",I17,IF(Strategie!$C$8="Avalanche",COUNTIFS($F$8:$F$22,">"&F17,$L$8:$L$22,"Aktiv")+COUNTIFS($F$8:F17,F17,$L$8:L17,"Aktiv"),COUNTIFS($E$8:$E$22,"<"&E17,$L$8:$L$22,"Aktiv")+COUNTIFS($E$8:E17,E17,$L$8:L17,"Aktiv")))) | L17: =IF(C17="","",IF(E17<=0,"Erledigt","Aktiv"))
B18: =IF(C18="","","S-"&TEXT(ROW()-7,"000")) | J18: =IF(C18="","",IF(Strategie!$C$8="Eigene Priorität",I18,IF(Strategie!$C$8="Avalanche",COUNTIFS($F$8:$F$22,">"&F18,$L$8:$L$22,"Aktiv")+COUNTIFS($F$8:F18,F18,$L$8:L18,"Aktiv"),COUNTIFS($E$8:$E$22,"<"&E18,$L$8:$L$22,"Aktiv")+COUNTIFS($E$8:E18,E18,$L$8:L18,"Aktiv")))) | L18: =IF(C18="","",IF(E18<=0,"Erledigt","Aktiv"))
B19: =IF(C19="","","S-"&TEXT(ROW()-7,"000")) | J19: =IF(C19="","",IF(Strategie!$C$8="Eigene Priorität",I19,IF(Strategie!$C$8="Avalanche",COUNTIFS($F$8:$F$22,">"&F19,$L$8:$L$22,"Aktiv")+COUNTIFS($F$8:F19,F19,$L$8:L19,"Aktiv"),COUNTIFS($E$8:$E$22,"<"&E19,$L$8:$L$22,"Aktiv")+COUNTIFS($E$8:E19,E19,$L$8:L19,"Aktiv")))) | L19: =IF(C19="","",IF(E19<=0,"Erledigt","Aktiv"))
... B22: =IF(C22="","","S-"&TEXT(ROW()-7,"000")) | J22: =IF(C22="","",IF(Strategie!$C$8="Eigene Priorität",I22,IF(Strategie!$C$8="Avalanche",COUNTIFS($F$8:$F$22,">"&F22,$L$8:$L$22,"Aktiv")+COUNTIFS($F$8:F22,F22,$L$8:L22,"Aktiv"),COUNTIFS($E$8:$E$22,"<"&E22,$L$8:$L$22,"Aktiv")+COUNTIFS($E$8:E22,E22,$L$8:L22,"Aktiv")))) | L22: =IF(C22="","",IF(E22<=0,"Erledigt","Aktiv"))

Sheet Strategie
B2: NurGeld Abbaustrategie
B4: Lege fest, wie zusätzliche Tilgung verteilt wird. Snowball priorisiert kleine Restschulden, Avalanche hohe Zinssätze.
B7: Strategie & Monatsbudget
B8: Gewählte Strategie | C8: Avalanche
B9: Zusätzlicher Monatsbetrag | C9: 250
B10: Gesamtes Monatsbudget | C10: =SUM(Schulden!G8:G22)+C9
B11: Startmonat | C11: 46296
B14: Was die Strategien bedeuten
B15: Avalanche | C15: Zusatzgeld fließt zuerst in die aktive Schuld mit dem höchsten Zinssatz. Ziel: Zinskosten möglichst stark reduzieren.
B16: Snowball | C16: Zusatzgeld fließt zuerst in die kleinste aktive Restschuld. Ziel: schneller sichtbare Erfolge und weniger offene Schulden.
B17: Eigene Priorität | C17: Du vergibst im Blatt „Schulden“ selbst Prioritäten. Kleinere Zahlen werden zuerst bedient.
B20: Planungslogik
B21: Der Plan zahlt zuerst die Mindestzahlungen aller aktiven Schulden. Das zusätzliche Budget wird nach dem gewählten Rang verteilt. Wird eine Schuld innerhalb eines Monats vollständig getilgt, fließt nicht benötigtes Zusatzbudget automatisch an die nächste Priorität weiter.

Sheet Sonderzahlungen
B2: NurGeld Sonderzahlungen
B4: Einmalige zusätzliche Tilgungen einplanen – zum Beispiel Bonus, Steuererstattung, Verkaufserlös oder Urlaubsgeld.
B7: Datum | C7: Bezeichnung | D7: Betrag | E7: Verteilung | F7: Ziel-ID | G7: Monat
G8: =IF(B8="","",EOMONTH(B8,-1)+1)
G9: =IF(B9="","",EOMONTH(B9,-1)+1)
G10: =IF(B10="","",EOMONTH(B10,-1)+1)
G11: =IF(B11="","",EOMONTH(B11,-1)+1)
G12: =IF(B12="","",EOMONTH(B12,-1)+1)
G13: =IF(B13="","",EOMONTH(B13,-1)+1)
G14: =IF(B14="","",EOMONTH(B14,-1)+1)
G15: =IF(B15="","",EOMONTH(B15,-1)+1)
G16: =IF(B16="","",EOMONTH(B16,-1)+1)
G17: =IF(B17="","",EOMONTH(B17,-1)+1)
G18: =IF(B18="","",EOMONTH(B18,-1)+1)
G19: =IF(B19="","",EOMONTH(B19,-1)+1)
... G67: =IF(B67="","",EOMONTH(B67,-1)+1)

Sheet Monatsplan
B2: NurGeld Monatsplan
B4: Monat für Monat sehen, wie sich Restschuld, Zinsen und Tilgung entwickeln. Der Plan reicht über zehn Jahre.
B7: Monat | C7: Startschuld | D7: Zinsen | E7: Zahlungen | F7: Sonderzahlungen | G7: Restschuld | H7: Fortschritt
B8: =Berechnung!B8 | C8: =Berechnung!D8+Berechnung!H8+Berechnung!L8+Berechnung!P8+Berechnung!T8+Berechnung!X8+Berechnung!AB8+Berechnung!AF8+Berechnung!AJ8+Berechnung!AN8+Berechnung!AR8+Berechnung!AV8+Berechnung!AZ8+Berechnung!BD8+Berechnung!BH8 | D8: =Berechnung!E8+Berechnung!I8+Berechnung!M8+Berechnung!Q8+Berechnung!U8+Berechnung!Y8+Berechnung!AC8+Berechnung!AG8+Berechnung!AK8+Berechnung!AO8+Berechnung!AS8+Berechnung!AW8+Berechnung!BA8+Berechnung!BE8+Berechnung!BI8 | E8: =Berechnung!F8+Berechnung!J8+Berechnung!N8+Berechnung!R8+Berechnung!V8+Berechnung!Z8+Berechnung!AD8+Berechnung!AH8+Berechnung!AL8+Berechnung!AP8+Berechnung!AT8+Berechnung!AX8+Berechnung!BB8+Berechnung!BF8+Berechnung!BJ8 | F8: =Berechnung!C8 | G8: =Berechnung!G8+Berechnung!K8+Berechnung!O8+Berechnung!S8+Berechnung!W8+Berechnung!AA8+Berechnung!AE8+Berechnung!AI8+Berechnung!AM8+Berechnung!AQ8+Berechnung!AU8+Berechnung!AY8+Berechnung!BC8+Berechnung!BG8+Berechnung!BK8 | H8: =IFERROR(1-G8/SUM(Schulden!$E$8:$E$22),0)
B9: =Berechnung!B9 | C9: =Berechnung!D9+Berechnung!H9+Berechnung!L9+Berechnung!P9+Berechnung!T9+Berechnung!X9+Berechnung!AB9+Berechnung!AF9+Berechnung!AJ9+Berechnung!AN9+Berechnung!AR9+Berechnung!AV9+Berechnung!AZ9+Berechnung!BD9+Berechnung!BH9 | D9: =Berechnung!E9+Berechnung!I9+Berechnung!M9+Berechnung!Q9+Berechnung!U9+Berechnung!Y9+Berechnung!AC9+Berechnung!AG9+Berechnung!AK9+Berechnung!AO9+Berechnung!AS9+Berechnung!AW9+Berechnung!BA9+Berechnung!BE9+Berechnung!BI9 | E9: =Berechnung!F9+Berechnung!J9+Berechnung!N9+Berechnung!R9+Berechnung!V9+Berechnung!Z9+Berechnung!AD9+Berechnung!AH9+Berechnung!AL9+Berechnung!AP9+Berechnung!AT9+Berechnung!AX9+Berechnung!BB9+Berechnung!BF9+Berechnung!BJ9 | F9: =Berechnung!C9 | G9: =Berechnung!G9+Berechnung!K9+Berechnung!O9+Berechnung!S9+Berechnung!W9+Berechnung!AA9+Berechnung!AE9+Berechnung!AI9+Berechnung!AM9+Berechnung!AQ9+Berechnung!AU9+Berechnung!AY9+Berechnung!BC9+Berechnung!BG9+Berechnung!BK9 | H9: =IFERROR(1-G9/SUM(Schulden!$E$8:$E$22),0)
B10: =Berechnung!B10 | C10: =Berechnung!D10+Berechnung!H10+Berechnung!L10+Berechnung!P10+Berechnung!T10+Berechnung!X10+Berechnung!AB10+Berechnung!AF10+Berechnung!AJ10+Berechnung!AN10+Berechnung!AR10+Berechnung!AV10+Berechnung!AZ10+Berechnung!BD10+Berechnung!BH10 | D10: =Berechnung!E10+Berechnung!I10+Berechnung!M10+Berechnung!Q10+Berechnung!U10+Berechnung!Y10+Berechnung!AC10+Berechnung!AG10+Berechnung!AK10+Berechnung!AO10+Berechnung!AS10+Berechnung!AW10+Berechnung!BA10+Berechnung!BE10+Berechnung!BI10 | E10: =Berechnung!F10+Berechnung!J10+Berechnung!N10+Berechnung!R10+Berechnung!V10+Berechnung!Z10+Berechnung!AD10+Berechnung!AH10+Berechnung!AL10+Berechnung!AP10+Berechnung!AT10+Berechnung!AX10+Berechnung!BB10+Berechnung!BF10+Berechnung!BJ10 | F10: =Berechnung!C10 | G10: =Berechnung!G10+Berechnung!K10+Berechnung!O10+Berechnung!S10+Berechnung!W10+Berechnung!AA10+Berechnung!AE10+Berechnung!AI10+Berechnung!AM10+Berechnung!AQ10+Berechnung!AU10+Berechnung!AY10+Berechnung!BC10+Berechnung!BG10+Berechnung!BK10 | H10: =IFERROR(1-G10/SUM(Schulden!$E$8:$E$22),0)
B11: =Berechnung!B11 | C11: =Berechnung!D11+Berechnung!H11+Berechnung!L11+Berechnung!P11+Berechnung!T11+Berechnung!X11+Berechnung!AB11+Berechnung!AF11+Berechnung!AJ11+Berechnung!AN11+Berechnung!AR11+Berechnung!AV11+Berechnung!AZ11+Berechnung!BD11+Berechnung!BH11 | D11: =Berechnung!E11+Berechnung!I11+Berechnung!M11+Berechnung!Q11+Berechnung!U11+Berechnung!Y11+Berechnung!AC11+Berechnung!AG11+Berechnung!AK11+Berechnung!AO11+Berechnung!AS11+Berechnung!AW11+Berechnung!BA11+Berechnung!BE11+Berechnung!BI11 | E11: =Berechnung!F11+Berechnung!J11+Berechnung!N11+Berechnung!R11+Berechnung!V11+Berechnung!Z11+Berechnung!AD11+Berechnung!AH11+Berechnung!AL11+Berechnung!AP11+Berechnung!AT11+Berechnung!AX11+Berechnung!BB11+Berechnung!BF11+Berechnung!BJ11 | F11: =Berechnung!C11 | G11: =Berechnung!G11+Berechnung!K11+Berechnung!O11+Berechnung!S11+Berechnung!W11+Berechnung!AA11+Berechnung!AE11+Berechnung!AI11+Berechnung!AM11+Berechnung!AQ11+Berechnung!AU11+Berechnung!AY11+Berechnung!BC11+Berechnung!BG11+Berechnung!BK11 | H11: =IFERROR(1-G11/SUM(Schulden!$E$8:$E$22),0)
B12: =Berechnung!B12 | C12: =Berechnung!D12+Berechnung!H12+Berechnung!L12+Berechnung!P12+Berechnung!T12+Berechnung!X12+Berechnung!AB12+Berechnung!AF12+Berechnung!AJ12+Berechnung!AN12+Berechnung!AR12+Berechnung!AV12+Berechnung!AZ12+Berechnung!BD12+Berechnung!BH12 | D12: =Berechnung!E12+Berechnung!I12+Berechnung!M12+Berechnung!Q12+Berechnung!U12+Berechnung!Y12+Berechnung!AC12+Berechnung!AG12+Berechnung!AK12+Berechnung!AO12+Berechnung!AS12+Berechnung!AW12+Berechnung!BA12+Berechnung!BE12+Berechnung!BI12 | E12: =Berechnung!F12+Berechnung!J12+Berechnung!N12+Berechnung!R12+Berechnung!V12+Berechnung!Z12+Berechnung!AD12+Berechnung!AH12+Berechnung!AL12+Berechnung!AP12+Berechnung!AT12+Berechnung!AX12+Berechnung!BB12+Berechnung!BF12+Berechnung!BJ12 | F12: =Berechnung!C12 | G12: =Berechnung!G12+Berechnung!K12+Berechnung!O12+Berechnung!S12+Berechnung!W12+Berechnung!AA12+Berechnung!AE12+Berechnung!AI12+Berechnung!AM12+Berechnung!AQ12+Berechnung!AU12+Berechnung!AY12+Berechnung!BC12+Berechnung!BG12+Berechnung!BK12 | H12: =IFERROR(1-G12/SUM(Schulden!$E$8:$E$22),0)
B13: =Berechnung!B13 | C13: =Berechnung!D13+Berechnung!H13+Berechnung!L13+Berechnung!P13+Berechnung!T13+Berechnung!X13+Berechnung!AB13+Berechnung!AF13+Berechnung!AJ13+Berechnung!AN13+Berechnung!AR13+Berechnung!AV13+Berechnung!AZ13+Berechnung!BD13+Berechnung!BH13 | D13: =Berechnung!E13+Berechnung!I13+Berechnung!M13+Berechnung!Q13+Berechnung!U13+Berechnung!Y13+Berechnung!AC13+Berechnung!AG13+Berechnung!AK13+Berechnung!AO13+Berechnung!AS13+Berechnung!AW13+Berechnung!BA13+Berechnung!BE13+Berechnung!BI13 | E13: =Berechnung!F13+Berechnung!J13+Berechnung!N13+Berechnung!R13+Berechnung!V13+Berechnung!Z13+Berechnung!AD13+Berechnung!AH13+Berechnung!AL13+Berechnung!AP13+Berechnung!AT13+Berechnung!AX13+Berechnung!BB13+Berechnung!BF13+Berechnung!BJ13 | F13: =Berechnung!C13 | G13: =Berechnung!G13+Berechnung!K13+Berechnung!O13+Berechnung!S13+Berechnung!W13+Berechnung!AA13+Berechnung!AE13+Berechnung!AI13+Berechnung!AM13+Berechnung!AQ13+Berechnung!AU13+Berechnung!AY13+Berechnung!BC13+Berechnung!BG13+Berechnung!BK13 | H13: =IFERROR(1-G13/SUM(Schulden!$E$8:$E$22),0)
B14: =Berechnung!B14 | C14: =Berechnung!D14+Berechnung!H14+Berechnung!L14+Berechnung!P14+Berechnung!T14+Berechnung!X14+Berechnung!AB14+Berechnung!AF14+Berechnung!AJ14+Berechnung!AN14+Berechnung!AR14+Berechnung!AV14+Berechnung!AZ14+Berechnung!BD14+Berechnung!BH14 | D14: =Berechnung!E14+Berechnung!I14+Berechnung!M14+Berechnung!Q14+Berechnung!U14+Berechnung!Y14+Berechnung!AC14+Berechnung!AG14+Berechnung!AK14+Berechnung!AO14+Berechnung!AS14+Berechnung!AW14+Berechnung!BA14+Berechnung!BE14+Berechnung!BI14 | E14: =Berechnung!F14+Berechnung!J14+Berechnung!N14+Berechnung!R14+Berechnung!V14+Berechnung!Z14+Berechnung!AD14+Berechnung!AH14+Berechnung!AL14+Berechnung!AP14+Berechnung!AT14+Berechnung!AX14+Berechnung!BB14+Berechnung!BF14+Berechnung!BJ14 | F14: =Berechnung!C14 | G14: =Berechnung!G14+Berechnung!K14+Berechnung!O14+Berechnung!S14+Berechnung!W14+Berechnung!AA14+Berechnung!AE14+Berechnung!AI14+Berechnung!AM14+Berechnung!AQ14+Berechnung!AU14+Berechnung!AY14+Berechnung!BC14+Berechnung!BG14+Berechnung!BK14 | H14: =IFERROR(1-G14/SUM(Schulden!$E$8:$E$22),0)
B15: =Berechnung!B15 | C15: =Berechnung!D15+Berechnung!H15+Berechnung!L15+Berechnung!P15+Berechnung!T15+Berechnung!X15+Berechnung!AB15+Berechnung!AF15+Berechnung!AJ15+Berechnung!AN15+Berechnung!AR15+Berechnung!AV15+Berechnung!AZ15+Berechnung!BD15+Berechnung!BH15 | D15: =Berechnung!E15+Berechnung!I15+Berechnung!M15+Berechnung!Q15+Berechnung!U15+Berechnung!Y15+Berechnung!AC15+Berechnung!AG15+Berechnung!AK15+Berechnung!AO15+Berechnung!AS15+Berechnung!AW15+Berechnung!BA15+Berechnung!BE15+Berechnung!BI15 | E15: =Berechnung!F15+Berechnung!J15+Berechnung!N15+Berechnung!R15+Berechnung!V15+Berechnung!Z15+Berechnung!AD15+Berechnung!AH15+Berechnung!AL15+Berechnung!AP15+Berechnung!AT15+Berechnung!AX15+Berechnung!BB15+Berechnung!BF15+Berechnung!BJ15 | F15: =Berechnung!C15 | G15: =Berechnung!G15+Berechnung!K15+Berechnung!O15+Berechnung!S15+Berechnung!W15+Berechnung!AA15+Berechnung!AE15+Berechnung!AI15+Berechnung!AM15+Berechnung!AQ15+Berechnung!AU15+Berechnung!AY15+Berechnung!BC15+Berechnung!BG15+Berechnung!BK15 | H15: =IFERROR(1-G15/SUM(Schulden!$E$8:$E$22),0)
B16: =Berechnung!B16 | C16: =Berechnung!D16+Berechnung!H16+Berechnung!L16+Berechnung!P16+Berechnung!T16+Berechnung!X16+Berechnung!AB16+Berechnung!AF16+Berechnung!AJ16+Berechnung!AN16+Berechnung!AR16+Berechnung!AV16+Berechnung!AZ16+Berechnung!BD16+Berechnung!BH16 | D16: =Berechnung!E16+Berechnung!I16+Berechnung!M16+Berechnung!Q16+Berechnung!U16+Berechnung!Y16+Berechnung!AC16+Berechnung!AG16+Berechnung!AK16+Berechnung!AO16+Berechnung!AS16+Berechnung!AW16+Berechnung!BA16+Berechnung!BE16+Berechnung!BI16 | E16: =Berechnung!F16+Berechnung!J16+Berechnung!N16+Berechnung!R16+Berechnung!V16+Berechnung!Z16+Berechnung!AD16+Berechnung!AH16+Berechnung!AL16+Berechnung!AP16+Berechnung!AT16+Berechnung!AX16+Berechnung!BB16+Berechnung!BF16+Berechnung!BJ16 | F16: =Berechnung!C16 | G16: =Berechnung!G16+Berechnung!K16+Berechnung!O16+Berechnung!S16+Berechnung!W16+Berechnung!AA16+Berechnung!AE16+Berechnung!AI16+Berechnung!AM16+Berechnung!AQ16+Berechnung!AU16+Berechnung!AY16+Berechnung!BC16+Berechnung!BG16+Berechnung!BK16 | H16: =IFERROR(1-G16/SUM(Schulden!$E$8:$E$22),0)
B17: =Berechnung!B17 | C17: =Berechnung!D17+Berechnung!H17+Berechnung!L17+Berechnung!P17+Berechnung!T17+Berechnung!X17+Berechnung!AB17+Berechnung!AF17+Berechnung!AJ17+Berechnung!AN17+Berechnung!AR17+Berechnung!AV17+Berechnung!AZ17+Berechnung!BD17+Berechnung!BH17 | D17: =Berechnung!E17+Berechnung!I17+Berechnung!M17+Berechnung!Q17+Berechnung!U17+Berechnung!Y17+Berechnung!AC17+Berechnung!AG17+Berechnung!AK17+Berechnung!AO17+Berechnung!AS17+Berechnung!AW17+Berechnung!BA17+Berechnung!BE17+Berechnung!BI17 | E17: =Berechnung!F17+Berechnung!J17+Berechnung!N17+Berechnung!R17+Berechnung!V17+Berechnung!Z17+Berechnung!AD17+Berechnung!AH17+Berechnung!AL17+Berechnung!AP17+Berechnung!AT17+Berechnung!AX17+Berechnung!BB17+Berechnung!BF17+Berechnung!BJ17 | F17: =Berechnung!C17 | G17: =Berechnung!G17+Berechnung!K17+Berechnung!O17+Berechnung!S17+Berechnung!W17+Berechnung!AA17+Berechnung!AE17+Berechnung!AI17+Berechnung!AM17+Berechnung!AQ17+Berechnung!AU17+Berechnung!AY17+Berechnung!BC17+Berechnung!BG17+Berechnung!BK17 | H17: =IFERROR(1-G17/SUM(Schulden!$E$8:$E$22),0)
B18: =Berechnung!B18 | C18: =Berechnung!D18+Berechnung!H18+Berechnung!L18+Berechnung!P18+Berechnung!T18+Berechnung!X18+Berechnung!AB18+Berechnung!AF18+Berechnung!AJ18+Berechnung!AN18+Berechnung!AR18+Berechnung!AV18+Berechnung!AZ18+Berechnung!BD18+Berechnung!BH18 | D18: =Berechnung!E18+Berechnung!I18+Berechnung!M18+Berechnung!Q18+Berechnung!U18+Berechnung!Y18+Berechnung!AC18+Berechnung!AG18+Berechnung!AK18+Berechnung!AO18+Berechnung!AS18+Berechnung!AW18+Berechnung!BA18+Berechnung!BE18+Berechnung!BI18 | E18: =Berechnung!F18+Berechnung!J18+Berechnung!N18+Berechnung!R18+Berechnung!V18+Berechnung!Z18+Berechnung!AD18+Berechnung!AH18+Berechnung!AL18+Berechnung!AP18+Berechnung!AT18+Berechnung!AX18+Berechnung!BB18+Berechnung!BF18+Berechnung!BJ18 | F18: =Berechnung!C18 | G18: =Berechnung!G18+Berechnung!K18+Berechnung!O18+Berechnung!S18+Berechnung!W18+Berechnung!AA18+Berechnung!AE18+Berechnung!AI18+Berechnung!AM18+Berechnung!AQ18+Berechnung!AU18+Berechnung!AY18+Berechnung!BC18+Berechnung!BG18+Berechnung!BK18 | H18: =IFERROR(1-G18/SUM(Schulden!$E$8:$E$22),0)
B19: =Berechnung!B19 | C19: =Berechnung!D19+Berechnung!H19+Berechnung!L19+Berechnung!P19+Berechnung!T19+Berechnung!X19+Berechnung!AB19+Berechnung!AF19+Berechnung!AJ19+Berechnung!AN19+Berechnung!AR19+Berechnung!AV19+Berechnung!AZ19+Berechnung!BD19+Berechnung!BH19 | D19: =Berechnung!E19+Berechnung!I19+Berechnung!M19+Berechnung!Q19+Berechnung!U19+Berechnung!Y19+Berechnung!AC19+Berechnung!AG19+Berechnung!AK19+Berechnung!AO19+Berechnung!AS19+Berechnung!AW19+Berechnung!BA19+Berechnung!BE19+Berechnung!BI19 | E19: =Berechnung!F19+Berechnung!J19+Berechnung!N19+Berechnung!R19+Berechnung!V19+Berechnung!Z19+Berechnung!AD19+Berechnung!AH19+Berechnung!AL19+Berechnung!AP19+Berechnung!AT19+Berechnung!AX19+Berechnung!BB19+Berechnung!BF19+Berechnung!BJ19 | F19: =Berechnung!C19 | G19: =Berechnung!G19+Berechnung!K19+Berechnung!O19+Berechnung!S19+Berechnung!W19+Berechnung!AA19+Berechnung!AE19+Berechnung!AI19+Berechnung!AM19+Berechnung!AQ19+Berechnung!AU19+Berechnung!AY19+Berechnung!BC19+Berechnung!BG19+Berechnung!BK19 | H19: =IFERROR(1-G19/SUM(Schulden!$E$8:$E$22),0)
... B127: =Berechnung!B127 | C127: =Berechnung!D127+Berechnung!H127+Berechnung!L127+Berechnung!P127+Berechnung!T127+Berechnung!X127+Berechnung!AB127+Berechnung!AF127+Berechnung!AJ127+Berechnung!AN127+Berechnung!AR127+Berechnung!AV127+Berechnung!AZ127+Berechnung!BD127+Berechnung!BH127 | D127: =Berechnung!E127+Berechnung!I127+Berechnung!M127+Berechnung!Q127+Berechnung!U127+Berechnung!Y127+Berechnung!AC127+Berechnung!AG127+Berechnung!AK127+Berechnung!AO127+Berechnung!AS127+Berechnung!AW127+Berechnung!BA127+Berechnung!BE127+Berechnung!BI127 | E127: =Berechnung!F127+Berechnung!J127+Berechnung!N127+Berechnung!R127+Berechnung!V127+Berechnung!Z127+Berechnung!AD127+Berechnung!AH127+Berechnung!AL127+Berechnung!AP127+Berechnung!AT127+Berechnung!AX127+Berechnung!BB127+Berechnung!BF127+Berechnung!BJ127 | F127: =Berechnung!C127 | G127: =Berechnung!G127+Berechnung!K127+Berechnung!O127+Berechnung!S127+Berechnung!W127+Berechnung!AA127+Berechnung!AE127+Berechnung!AI127+Berechnung!AM127+Berechnung!AQ127+Berechnung!AU127+Berechnung!AY127+Berechnung!BC127+Berechnung!BG127+Berechnung!BK127 | H127: =IFERROR(1-G127/SUM(Schulden!$E$8:$E$22),0)

Sheet Tilgungsplan
B2: NurGeld Tilgungsplan
B4: Reihenfolge, voraussichtlicher Tilgungsmonat und Zinsbelastung jeder einzelnen Schuld.
B7: Rang | C7: ID | D7: Gläubiger / Kredit | E7: Restschuld | F7: Zins | G7: Mindestzahlung | H7: Vorauss. erledigt | I7: Monate | J7: Zinsen im Plan
B8: =Schulden!J8 | C8: =Schulden!B8 | D8: =Schulden!C8 | E8: =Schulden!E8 | F8: =Schulden!F8 | G8: =Schulden!G8 | H8: =IF(D8="","",IFERROR(INDEX(Monatsplan!$B$8:$B$127,MATCH(0,Berechnung!G$8:G$127,0)),"über 10 Jahre")) | I8: =IF(D8="","",IFERROR(MATCH(0,Berechnung!G$8:G$127,0),"120+")) | J8: =IF(D8="","",SUM(Berechnung!E$8:E$127))
B9: =Schulden!J9 | C9: =Schulden!B9 | D9: =Schulden!C9 | E9: =Schulden!E9 | F9: =Schulden!F9 | G9: =Schulden!G9 | H9: =IF(D9="","",IFERROR(INDEX(Monatsplan!$B$8:$B$127,MATCH(0,Berechnung!K$8:K$127,0)),"über 10 Jahre")) | I9: =IF(D9="","",IFERROR(MATCH(0,Berechnung!K$8:K$127,0),"120+")) | J9: =IF(D9="","",SUM(Berechnung!I$8:I$127))
B10: =Schulden!J10 | C10: =Schulden!B10 | D10: =Schulden!C10 | E10: =Schulden!E10 | F10: =Schulden!F10 | G10: =Schulden!G10 | H10: =IF(D10="","",IFERROR(INDEX(Monatsplan!$B$8:$B$127,MATCH(0,Berechnung!O$8:O$127,0)),"über 10 Jahre")) | I10: =IF(D10="","",IFERROR(MATCH(0,Berechnung!O$8:O$127,0),"120+")) | J10: =IF(D10="","",SUM(Berechnung!M$8:M$127))
B11: =Schulden!J11 | C11: =Schulden!B11 | D11: =Schulden!C11 | E11: =Schulden!E11 | F11: =Schulden!F11 | G11: =Schulden!G11 | H11: =IF(D11="","",IFERROR(INDEX(Monatsplan!$B$8:$B$127,MATCH(0,Berechnung!S$8:S$127,0)),"über 10 Jahre")) | I11: =IF(D11="","",IFERROR(MATCH(0,Berechnung!S$8:S$127,0),"120+")) | J11: =IF(D11="","",SUM(Berechnung!Q$8:Q$127))
B12: =Schulden!J12 | C12: =Schulden!B12 | D12: =Schulden!C12 | E12: =Schulden!E12 | F12: =Schulden!F12 | G12: =Schulden!G12 | H12: =IF(D12="","",IFERROR(INDEX(Monatsplan!$B$8:$B$127,MATCH(0,Berechnung!W$8:W$127,0)),"über 10 Jahre")) | I12: =IF(D12="","",IFERROR(MATCH(0,Berechnung!W$8:W$127,0),"120+")) | J12: =IF(D12="","",SUM(Berechnung!U$8:U$127))
B13: =Schulden!J13 | C13: =Schulden!B13 | D13: =Schulden!C13 | E13: =Schulden!E13 | F13: =Schulden!F13 | G13: =Schulden!G13 | H13: =IF(D13="","",IFERROR(INDEX(Monatsplan!$B$8:$B$127,MATCH(0,Berechnung!AA$8:AA$127,0)),"über 10 Jahre")) | I13: =IF(D13="","",IFERROR(MATCH(0,Berechnung!AA$8:AA$127,0),"120+")) | J13: =IF(D13="","",SUM(Berechnung!Y$8:Y$127))
B14: =Schulden!J14 | C14: =Schulden!B14 | D14: =Schulden!C14 | E14: =Schulden!E14 | F14: =Schulden!F14 | G14: =Schulden!G14 | H14: =IF(D14="","",IFERROR(INDEX(Monatsplan!$B$8:$B$127,MATCH(0,Berechnung!AE$8:AE$127,0)),"über 10 Jahre")) | I14: =IF(D14="","",IFERROR(MATCH(0,Berechnung!AE$8:AE$127,0),"120+")) | J14: =IF(D14="","",SUM(Berechnung!AC$8:AC$127))
B15: =Schulden!J15 | C15: =Schulden!B15 | D15: =Schulden!C15 | E15: =Schulden!E15 | F15: =Schulden!F15 | G15: =Schulden!G15 | H15: =IF(D15="","",IFERROR(INDEX(Monatsplan!$B$8:$B$127,MATCH(0,Berechnung!AI$8:AI$127,0)),"über 10 Jahre")) | I15: =IF(D15="","",IFERROR(MATCH(0,Berechnung!AI$8:AI$127,0),"120+")) | J15: =IF(D15="","",SUM(Berechnung!AG$8:AG$127))
B16: =Schulden!J16 | C16: =Schulden!B16 | D16: =Schulden!C16 | E16: =Schulden!E16 | F16: =Schulden!F16 | G16: =Schulden!G16 | H16: =IF(D16="","",IFERROR(INDEX(Monatsplan!$B$8:$B$127,MATCH(0,Berechnung!AM$8:AM$127,0)),"über 10 Jahre")) | I16: =IF(D16="","",IFERROR(MATCH(0,Berechnung!AM$8:AM$127,0),"120+")) | J16: =IF(D16="","",SUM(Berechnung!AK$8:AK$127))
B17: =Schulden!J17 | C17: =Schulden!B17 | D17: =Schulden!C17 | E17: =Schulden!E17 | F17: =Schulden!F17 | G17: =Schulden!G17 | H17: =IF(D17="","",IFERROR(INDEX(Monatsplan!$B$8:$B$127,MATCH(0,Berechnung!AQ$8:AQ$127,0)),"über 10 Jahre")) | I17: =IF(D17="","",IFERROR(MATCH(0,Berechnung!AQ$8:AQ$127,0),"120+")) | J17: =IF(D17="","",SUM(Berechnung!AO$8:AO$127))
B18: =Schulden!J18 | C18: =Schulden!B18 | D18: =Schulden!C18 | E18: =Schulden!E18 | F18: =Schulden!F18 | G18: =Schulden!G18 | H18: =IF(D18="","",IFERROR(INDEX(Monatsplan!$B$8:$B$127,MATCH(0,Berechnung!AU$8:AU$127,0)),"über 10 Jahre")) | I18: =IF(D18="","",IFERROR(MATCH(0,Berechnung!AU$8:AU$127,0),"120+")) | J18: =IF(D18="","",SUM(Berechnung!AS$8:AS$127))
B19: =Schulden!J19 | C19: =Schulden!B19 | D19: =Schulden!C19 | E19: =Schulden!E19 | F19: =Schulden!F19 | G19: =Schulden!G19 | H19: =IF(D19="","",IFERROR(INDEX(Monatsplan!$B$8:$B$127,MATCH(0,Berechnung!AY$8:AY$127,0)),"über 10 Jahre")) | I19: =IF(D19="","",IFERROR(MATCH(0,Berechnung!AY$8:AY$127,0),"120+")) | J19: =IF(D19="","",SUM(Berechnung!AW$8:AW$127))
B20: =Schulden!J20 | C20: =Schulden!B20 | D20: =Schulden!C20 | E20: =Schulden!E20 | F20: =Schulden!F20 | G20: =Schulden!G20 | H20: =IF(D20="","",IFERROR(INDEX(Monatsplan!$B$8:$B$127,MATCH(0,Berechnung!BC$8:BC$127,0)),"über 10 Jahre")) | I20: =IF(D20="","",IFERROR(MATCH(0,Berechnung!BC$8:BC$127,0),"120+")) | J20: =IF(D20="","",SUM(Berechnung!BA$8:BA$127))
B21: =Schulden!J21 | C21: =Schulden!B21 | D21: =Schulden!C21 | E21: =Schulden!E21 | F21: =Schulden!F21 | G21: =Schulden!G21 | H21: =IF(D21="","",IFERROR(INDEX(Monatsplan!$B$8:$B$127,MATCH(0,Berechnung!BG$8:BG$127,0)),"über 10 Jahre")) | I21: =IF(D21="","",IFERROR(MATCH(0,Berechnung!BG$8:BG$127,0),"120+")) | J21: =IF(D21="","",SUM(Berechnung!BE$8:BE$127))
B22: =Schulden!J22 | C22: =Schulden!B22 | D22: =Schulden!C22 | E22: =Schulden!E22 | F22: =Schulden!F22 | G22: =Schulden!G22 | H22: =IF(D22="","",IFERROR(INDEX(Monatsplan!$B$8:$B$127,MATCH(0,Berechnung!BK$8:BK$127,0)),"über 10 Jahre")) | I22: =IF(D22="","",IFERROR(MATCH(0,Berechnung!BK$8:BK$127,0),"120+")) | J22: =IF(D22="","",SUM(Berechnung!BI$8:BI$127))

Sheet Szenarien
B2: NurGeld Szenario-Rechner
B4: Prüfe, wie sich ein höheres Zusatzbudget auf die ungefähre Laufzeit auswirkt.
B7: Budget-Szenarien
B8: Szenario | C8: Zusatzbetrag | D8: Gesamtbudget | E8: Grobe Laufzeit | F8: Einordnung
B9: Basis | C9: =MAX(0,Strategie!C9+0) | D9: =SUM(Schulden!G8:G22)+C9 | E9: =IFERROR(NPER((SUMPRODUCT(Schulden!E8:E22,Schulden!F8:F22)/SUM(Schulden!E8:E22))/12,-D9,SUM(Schulden!E8:E22)),0) | F9: =IF(E9=0,"Keine Berechnung",IF(E9<=24,"kurz",IF(E9<=60,"mittel","lang")))
B10: + 50 € | C10: =MAX(0,Strategie!C9+50) | D10: =SUM(Schulden!G8:G22)+C10 | E10: =IFERROR(NPER((SUMPRODUCT(Schulden!E8:E22,Schulden!F8:F22)/SUM(Schulden!E8:E22))/12,-D10,SUM(Schulden!E8:E22)),0) | F10: =IF(E10=0,"Keine Berechnung",IF(E10<=24,"kurz",IF(E10<=60,"mittel","lang")))
B11: + 100 € | C11: =MAX(0,Strategie!C9+100) | D11: =SUM(Schulden!G8:G22)+C11 | E11: =IFERROR(NPER((SUMPRODUCT(Schulden!E8:E22,Schulden!F8:F22)/SUM(Schulden!E8:E22))/12,-D11,SUM(Schulden!E8:E22)),0) | F11: =IF(E11=0,"Keine Berechnung",IF(E11<=24,"kurz",IF(E11<=60,"mittel","lang")))
B12: + 250 € | C12: =MAX(0,Strategie!C9+250) | D12: =SUM(Schulden!G8:G22)+C12 | E12: =IFERROR(NPER((SUMPRODUCT(Schulden!E8:E22,Schulden!F8:F22)/SUM(Schulden!E8:E22))/12,-D12,SUM(Schulden!E8:E22)),0) | F12: =IF(E12=0,"Keine Berechnung",IF(E12<=24,"kurz",IF(E12<=60,"mittel","lang")))
B13: + 500 € | C13: =MAX(0,Strategie!C9+500) | D13: =SUM(Schulden!G8:G22)+C13 | E13: =IFERROR(NPER((SUMPRODUCT(Schulden!E8:E22,Schulden!F8:F22)/SUM(Schulden!E8:E22))/12,-D13,SUM(Schulden!E8:E22)),0) | F13: =IF(E13=0,"Keine Berechnung",IF(E13<=24,"kurz",IF(E13<=60,"mittel","lang")))
B16: Die Szenario-Laufzeit ist eine Näherung mit gewichtetem Durchschnittszins. Der exakte Monatsplan berücksichtigt die einzelne Tilgungsreihenfolge und Sonderzahlungen.

Sheet Auswertung
B2: NurGeld Auswertung
B4: Automatische Kennzahlen zu Zinsen, Tilgungsdauer, Fortschritt und Budgetwirkung.
B7: Gesamte Zinskosten | G7: Geplante Laufzeit | L7: Abbau nach 12 Monaten
B8: =SUM(Monatsplan!D8:D127) | G8: =IFERROR(MATCH(0,Monatsplan!G8:G127,0),"120+") | L8: =IFERROR(1-Monatsplan!G19/SUM(Schulden!E8:E22),0)
B13: Kernkennzahlen
B14: Kennzahl | C14: Wert
B15: Startschuld | C15: =SUM(Schulden!E8:E22)
B16: Summe Mindestzahlungen | C16: =SUM(Schulden!G8:G22)
B17: Monatsbudget | C17: =Strategie!C10
B18: Zusatzbudget Anteil | C18: =IFERROR(Strategie!C9/Strategie!C10,0)
B19: Sonderzahlungen | C19: =SUM(Sonderzahlungen!D8:D67)
B20: Zinsen im Plan | C20: =SUM(Monatsplan!D8:D127)

Sheet Anleitung
B2: NurGeld Anleitung
B4: So nutzt du den Schuldenabbau-Planer Pro Schritt für Schritt.
B7: 1. Schulden erfassen
B8: Im Blatt „Schulden“ trägst du Gläubiger, aktuelle Restschuld, Jahreszins, Mindestzahlung und Fälligkeit ein. Gelbe Felder sind Eingabefelder.
B11: 2. Strategie wählen
B12: Wähle Avalanche, Snowball oder eine eigene Priorität und lege dein zusätzliches monatliches Tilgungsbudget fest.
B15: 3. Sonderzahlungen einplanen
B16: Bonus, Steuererstattung oder andere Einmalbeträge können nach Strategie verteilt oder gezielt einer Schuld zugeordnet werden.
B19: 4. Monatsplan prüfen
B20: Der Monatsplan zeigt für bis zu 120 Monate Startschuld, Zinsen, Zahlungen und verbleibende Restschuld.
B23: 5. Tilgungsplan nutzen
B24: Hier siehst du je Schuld Rang, voraussichtlichen Tilgungsmonat und die im Plan entstehenden Zinsen.
... B36: Der Planer ist eine Rechen- und Organisationshilfe. Tatsächliche Zinsen, Gebühren, Fälligkeiten und Verrechnungsregeln können je Vertrag oder Gläubiger abweichen. Bei Mahn- oder Vollstreckungsverfahren sollten Fristen zusätzlich anhand der Originalunterlagen geprüft werden.

Sheet Berechnung
B2: NurGeld Berechnungsmodell
B4: Technisches Rechenblatt des Schuldenabbau-Planers. Änderungen sind hier nicht erforderlich.
D6: =IF(Schulden!C8="","",Schulden!B8&" – "&Schulden!C8) | H6: =IF(Schulden!C9="","",Schulden!B9&" – "&Schulden!C9) | L6: =IF(Schulden!C10="","",Schulden!B10&" – "&Schulden!C10) | P6: =IF(Schulden!C11="","",Schulden!B11&" – "&Schulden!C11) | T6: =IF(Schulden!C12="","",Schulden!B12&" – "&Schulden!C12) | X6: =IF(Schulden!C13="","",Schulden!B13&" – "&Schulden!C13) | AB6: =IF(Schulden!C14="","",Schulden!B14&" – "&Schulden!C14) | AF6: =IF(Schulden!C15="","",Schulden!B15&" – "&Schulden!C15) | AJ6: =IF(Schulden!C16="","",Schulden!B16&" – "&Schulden!C16) | AN6: =IF(Schulden!C17="","",Schulden!B17&" – "&Schulden!C17) | AR6: =IF(Schulden!C18="","",Schulden!B18&" – "&Schulden!C18) | AV6: =IF(Schulden!C19="","",Schulden!B19&" – "&Schulden!C19) | AZ6: =IF(Schulden!C20="","",Schulden!B20&" – "&Schulden!C20) | BD6: =IF(Schulden!C21="","",Schulden!B21&" – "&Schulden!C21) | BH6: =IF(Schulden!C22="","",Schulden!B22&" – "&Schulden!C22)
B7: Monat | C7: Sonderzahlungen | D7: Start | E7: Zins | F7: Zahlung | G7: Ende | H7: Start | I7: Zins | J7: Zahlung | K7: Ende | L7: Start | M7: Zins | N7: Zahlung | O7: Ende | P7: Start | Q7: Zins | R7: Zahlung | S7: Ende | T7: Start | U7: Zins | V7: Zahlung | W7: Ende | X7: Start | Y7: Zins | Z7: Zahlung | AA7: Ende | AB7: Start | AC7: Zins | AD7: Zahlung | AE7: Ende | AF7: Start | AG7: Zins | AH7: Zahlung | AI7: Ende | AJ7: Start | AK7: Zins | AL7: Zahlung | AM7: Ende | AN7: Start | AO7: Zins | AP7: Zahlung | AQ7: Ende | AR7: Start | AS7: Zins | AT7: Zahlung | AU7: Ende | AV7: Start | AW7: Zins | AX7: Zahlung | AY7: Ende | AZ7: Start | BA7: Zins | BB7: Zahlung | BC7: Ende | BD7: Start | BE7: Zins | BF7: Zahlung | BG7: Ende | BH7: Start | BI7: Zins | BJ7: Zahlung | BK7: Ende
B8: =Strategie!C11 | C8: =SUMIFS(Sonderzahlungen!$D$8:$D$67,Sonderzahlungen!$G$8:$G$67,B8) | D8: =IF(Schulden!C8="",0,Schulden!E8) | E8: =IF(D8<=0,0,D8*Schulden!F8/12) | F8: =IF(D8<=0,0,MIN(D8+E8,MIN(Schulden!G8,D8+E8)+MIN(MAX(0,Strategie!$C$9+SUMIFS(Sonderzahlungen!$D$8:$D$67,Sonderzahlungen!$G$8:$G$67,$B8,Sonderzahlungen!$E$8:$E$67,"Nach Strategie")-(IF(AND(Schulden!J8<Schulden!J8,D8>0),MAX(0,D8+E8-MIN(Schulden!G8,D8+E8)),0)+IF(AND(Schulden!J9<Schulden!J8,H8>0),MAX(0,H8+I8-MIN(Schulden!G9,H8+I8)),0)+IF(AND(Schulden!J10<Schulden!J8,L8>0),MAX(0,L8+M8-MIN(Schulden!G10,L8+M8)),0)+IF(AND(Schulden!J11<Schulden!J8,P8>0),MAX(0,P8+Q8-MIN(Schulden!G11,P8+Q8)),0)+IF(AND(Schulden!J12<Schulden!J8,T8>0),MAX(0,T8+U8-MIN(Schulden!G12,T8+U8)),0)+IF(AND(Schulden!J13<Schulden!J8,X8>0),MAX(0,X8+Y8-MIN(Schulden!G13,X8+Y8)),0)+IF(AND(Schulden!J14<Schulden!J8,AB8>0),MAX(0,AB8+AC8-MIN(Schulden!G14,AB8+AC8)),0)+IF(AND(Schulden!J15<Schulden!J8,AF8>0),MAX(0,AF8+AG8-MIN(Schulden!G15,AF8+AG8)),0)+IF(AND(Schulden!J16<Schulden!J8,AJ8>0),MAX(0,AJ8+AK8-MIN(Schulden!G16,AJ8+AK8)),0)+IF(AND(Schulden!J17<Schulden!J8,AN8>0),MAX(0,AN8+AO8-MIN(Schulden!G17,AN8+AO8)),0)+IF(AND(Schulden!J18<Schulden!J8,AR8>0),MAX(0,AR8+AS8-MIN(Schulden!G18,AR8+AS8)),0)+IF(AND(Schulden!J19<Schulden!J8,AV8>0),MAX(0,AV8+AW8-MIN(Schulden!G19,AV8+AW8)),0)+IF(AND(Schulden!J20<Schulden!J8,AZ8>0),MAX(0,AZ8+BA8-MIN(Schulden!G20,AZ8+BA8)),0)+IF(AND(Schulden!J21<Schulden!J8,BD8>0),MAX(0,BD8+BE8-MIN(Schulden!G21,BD8+BE8)),0)+IF(AND(Schulden!J22<Schulden!J8,BH8>0),MAX(0,BH8+BI8-MIN(Schulden!G22,BH8+BI8)),0))),MAX(0,D8+E8-MIN(Schulden!G8,D8+E8)))+SUMIFS(Sonderzahlungen!$D$8:$D$67,Sonderzahlungen!$G$8:$G$67,$B8,Sonderzahlungen!$E$8:$E$67,"Gezielte Schuld",Sonderzahlungen!$F$8:$F$67,Schulden!B8))) | G8: =MAX(0,D8+E8-F8) | H8: =IF(Schulden!C9="",0,Schulden!E9) | I8: =IF(H8<=0,0,H8*Schulden!F9/12) | J8: =IF(H8<=0,0,MIN(H8+I8,MIN(Schulden!G9,H8+I8)+MIN(MAX(0,Strategie!$C$9+SUMIFS(Sonderzahlungen!$D$8:$D$67,Sonderzahlungen!$G$8:$G$67,$B8,Sonderzahlungen!$E$8:$E$67,"Nach Strategie")-(IF(AND(Schulden!J8<Schulden!J9,D8>0),MAX(0,D8+E8-MIN(Schulden!G8,D8+E8)),0)+IF(AND(Schulden!J9<Schulden!J9,H8>0),MAX(0,H8+I8-MIN(Schulden!G9,H8+I8)),0)+IF(AND(Schulden!J10<Schulden!J9,L8>0),MAX(0,L8+M8-MIN(Schulden!G10,L8+M8)),0)+IF(AND(Schulden!J11<Schulden!J9,P8>0),MAX(0,P8+Q8-MIN(Schulden!G11,P8+Q8)),0)+IF(AND(Schulden!J12<Schulden!J9,T8>0),MAX(0,T8+U8-MIN(Schulden!G12,T8+U8)),0)+IF(AND(Schulden!J13<Schulden!J9,X8>0),MAX(0,X8+Y8-MIN(Schulden!G13,X8+Y8)),0)+IF(AND(Schulden!J14<Schulden!J9,AB8>0),MAX(0,AB8+AC8-MIN(Schulden!G14,AB8+AC8)),0)+IF(AND(Schulden!J15<Schulden!J9,AF8>0),MAX(0,AF8+AG8-MIN(Schulden!G15,AF8+AG8)),0)+IF(AND(Schulden!J16<Schulden!J9,AJ8>0),MAX(0,AJ8+AK8-MIN(Schulden!G16,AJ8+AK8)),0)+IF(AND(Schulden!J17<Schulden!J9,AN8>0),MAX(0,AN8+AO8-MIN(Schulden!G17,AN8+AO8)),0)+IF(AND(Schulden!J18<Schulden!J9,AR8>0),MAX(0,AR8+AS8-MIN(Schulden!G18,AR8+AS8)),0)+IF(AND(Schulden!J19<Schulden!J9,AV8>0),MAX(0,AV8+AW8-MIN(Schulden!G19,AV8+AW8)),0)+IF(AND(Schulden!J20<Schulden!J9,AZ8>0),MAX(0,AZ8+BA8-MIN(Schulden!G20,AZ8+BA8)),0)+IF(AND(Schulden!J21<Schulden!J9,BD8>0),MAX(0,BD8+BE8-MIN(Schulden!G21,BD8+BE8)),0)+IF(AND(Schulden!J22<Schulden!J9,BH8>0),MAX(0,BH8+BI8-MIN(Schulden!G22,BH8+BI8)),0))),MAX(0,H8+I8-MIN(Schulden!G9,H8+I8)))+SUMIFS(Sonderzahlungen!$D$8:$D$67,Sonderzahlungen!$G$8:$G$67,$B8,Sonderzahlungen!$E$8:$E$67,"Gezielte Schuld",Sonderzahlungen!$F$8:$F$67,Schulden!B9))) | K8: =MAX(0,H8+I8-J8) | L8: =IF(Schulden!C10="",0,Schulden!E10) | M8: =IF(L8<=0,0,L8*Schulden!F10/12) | N8: =IF(L8<=0,0,MIN(L8+M8,MIN(Schulden!G10,L8+M8)+MIN(MAX(0,Strategie!$C$9+SUMIFS(Sonderzahlungen!$D$8:$D$67,Sonderzahlungen!$G$8:$G$67,$B8,Sonderzahlungen!$E$8:$E$67,"Nach Strategie")-(IF(AND(Schulden!J8<Schulden!J10,D8>0),MAX(0,D8+E8-MIN(Schulden!G8,D8+E8)),0)+IF(AND(Schulden!J9<Schulden!J10,H8>0),MAX(0,H8+I8-MIN(Schulden!G9,H8+I8)),0)+IF(AND(Schulden!J10<Schulden!J10,L8>0),MAX(0,L8+M8-MIN(Schulden!G10,L8+M8)),0)+IF(AND(Schulden!J11<Schulden!J10,P8>0),MAX(0,P8+Q8-MIN(Schulden!G11,P8+Q8)),0)+IF(AND(Schulden!J12<Schulden!J10,T8>0),MAX(0,T8+U8-MIN(Schulden!G12,T8+U8)),0)+IF(AND(Schulden!J13<Schulden!J10,X8>0),MAX(0,X8+Y8-MIN(Schulden!G13,X8+Y8)),0)+IF(AND(Schulden!J14<Schulden!J10,AB8>0),MAX(0,AB8+AC8-MIN(Schulden!G14,AB8+AC8)),0)+IF(AND(Schulden!J15<Schulden!J10,AF8>0),MAX(0,AF8+AG8-MIN(Schulden!G15,AF8+AG8)),0)+IF(AND(Schulden!J16<Schulden!J10,AJ8>0),MAX(0,AJ8+AK8-MIN(Schulden!G16,AJ8+AK8)),0)+IF(AND(Schulden!J17<Schulden!J10,AN8>0),MAX(0,AN8+AO8-MIN(Schulden!G17,AN8+AO8)),0)+IF(AND(Schulden!J18<Schulden!J10,AR8>0),MAX(0,AR8+AS8-MIN(Schulden!G18,AR8+AS8)),0)+IF(AND(Schulden!J19<Schulden!J10,AV8>0),MAX(0,AV8+AW8-MIN(Schulden!G19,AV8+AW8)),0)+IF(AND(Schulden!J20<Schulden!J10,AZ8>0),MAX(0,AZ8+BA8-MIN(Schulden!G20,AZ8+BA8)),0)+IF(AND(Schulden!J21<Schulden!J10,BD8>0),MAX(0,BD8+BE8-MIN(Schulden!G21,BD8+BE8)),0)+IF(AND(Schulden!J22<Schulden!J10,BH8>0),MAX(0,BH8+BI8-MIN(Schulden!G22,BH8+BI8)),0))),MAX(0,L8+M8-MIN(Schulden!G10,L8+M8)))+SUMIFS(Sonderzahlungen!$D$8:$D$67,Sonderzahlungen!$G$8:$G$67,$B8,Sonderzahlungen!$E$8:$E$67,"Gezielte Schuld",Sonderzahlungen!$F$8:$F$67,Schulden!B10))) | O8: =MAX(0,L8+M8-N8) | P8: =IF(Schulden!C11="",0,Schulden!E11) | Q8: =IF(P8<=0,0,P8*Schulden!F11/12) | R8: =IF(P8<=0,0,MIN(P8+Q8,MIN(Schulden!G11,P8+Q8)+MIN(MAX(0,Strategie!$C$9+SUMIFS(Sonderzahlungen!$D$8:$D$67,Sonderzahlungen!$G$8:$G$67,$B8,Sonderzahlungen!$E$8:$E$67,"Nach Strategie")-(IF(AND(Schulden!J8<Schulden!J11,D8>0),MAX(0,D8+E8-MIN(Schulden!G8,D8+E8)),0)+IF(AND(Schulden!J9<Schulden!J11,H8>0),MAX(0,H8+I8-MIN(Schulden!G9,H8+I8)),0)+IF(AND(Schulden!J10<Schulden!J11,L8>0),MAX(0,L8+M8-MIN(Schulden!G10,L8+M8)),0)+IF(AND(Schulden!J11<Schulden!J11,P8>0),MAX(0,P8+Q8-MIN(Schulden!G11,P8+Q8)),0)+IF(AND(Schulden!J12<Schulden!J11,T8>0),MAX(0,T8+U8-MIN(Schulden!G12,T8+U8)),0)+IF(AND(Schulden!J13<Schulden!J11,X8>0),MAX(0,X8+Y8-MIN(Schulden!G13,X8+Y8)),0)+IF(AND(Schulden!J14<Schulden!J11,AB8>0),MAX(0,AB8+AC8-MIN(Schulden!G14,AB8+AC8)),0)+IF(AND(Schulden!J15<Schulden!J11,AF8>0),MAX(0,AF8+AG8-MIN(Schulden!G15,AF8+AG8)),0)+IF(AND(Schulden!J16<Schulden!J11,AJ8>0),MAX(0,AJ8+AK8-MIN(Schulden!G16,AJ8+AK8)),0)+IF(AND(Schulden!J17<Schulden!J11,AN8>0),MAX(0,AN8+AO8-MIN(Schulden!G17,AN8+AO8)),0)+IF(AND(Schulden!J18<Schulden!J11,AR8>0),MAX(0,AR8+AS8-MIN(Schulden!G18,AR8+AS8)),0)+IF(AND(Schulden!J19<Schulden!J11,AV8>0),MAX(0,AV8+AW8-MIN(Schulden!G19,AV8+AW8)),0)+IF(AND(Schulden!J20<Schulden!J11,AZ8>0),MAX(0,AZ8+BA8-MIN(Schulden!G20,AZ8+BA8)),0)+IF(AND(Schulden!J21<Schulden!J11,BD8>0),MAX(0,BD8+BE8-MIN(Schulden!G21,BD8+BE8)),0)+IF(AND(Schulden!J22<Schulden!J11,BH8>0),MAX(0,BH8+BI8-MIN(Schulden!G22,BH8+BI8)),0))),MAX(0,P8+Q8-MIN(Schulden!G11,P8+Q8)))+SUMIFS(Sonderzahlungen!$D$8:$D$67,Sonderzahlungen!$G$8:$G$67,$B8,Sonderzahlungen!$E$8:$E$67,"Gezielte Schuld",Sonderzahlungen!$F$8:$F$67,Schulden!B11))) | S8: =MAX(0,P8+Q8-R8) | T8: =IF(Schulden!C12="",0,Schulden!E12) | U8: =IF(T8<=0,0,T8*Schulden!F12/12) | V8: =IF(T8<=0,0,MIN(T8+U8,MIN(Schulden!G12,T8+U8)+MIN(MAX(0,Strategie!$C$9+SUMIFS(Sonderzahlungen!$D$8:$D$67,Sonderzahlungen!$G$8:$G$67,$B8,Sonderzahlungen!$E$8:$E$67,"Nach Strategie")-(IF(AND(Schulden!J8<Schulden!J12,D8>0),MAX(0,D8+E8-MIN(Schulden!G8,D8+E8)),0)+IF(AND(Schulden!J9<Schulden!J12,H8>0),MAX(0,H8+I8-MIN(Schulden!G9,H8+I8)),0)+IF(AND(Schulden!J10<Schulden!J12,L8>0),MAX(0,L8+M8-MIN(Schulden!G10,L8+M8)),0)+IF(AND(Schulden!J11<Schulden!J12,P8>0),MAX(0,P8+Q8-MIN(Schulden!G11,P8+Q8)),0)+IF(AND(Schulden!J12<Schulden!J12,T8>0),MAX(0,T8+U8-MIN(Schulden!G12,T8+U8)),0)+IF(AND(Schulden!J13<Schulden!J12,X8>0),MAX(0,X8+Y8-MIN(Schulden!G13,X8+Y8)),0)+IF(AND(Schulden!J14<Schulden!J12,AB8>0),MAX(0,AB8+AC8-MIN(Schulden!G14,AB8+AC8)),0)+IF(AND(Schulden!J15<Schulden!J12,AF8>0),MAX(0,AF8+AG8-MIN(Schulden!G15,AF8+AG8)),0)+IF(AND(Schulden!J16<Schulden!J12,AJ8>0),MAX(0,AJ8+AK8-MIN(Schulden!G16,AJ8+AK8)),0)+IF(AND(Schulden!J17<Schulden!J12,AN8>0),MAX(0,AN8+AO8-MIN(Schulden!G17,AN8+AO8)),0)+IF(AND(Schulden!J18<Schulden!J12,AR8>0),MAX(0,AR8+AS8-MIN(Schulden!G18,AR8+AS8)),0)+IF(AND(Schulden!J19<Schulden!J12,AV8>0),MAX(0,AV8+AW8-MIN(Schulden!G19,AV8+AW8)),0)+IF(AND(Schulden!J20<Schulden!J12,AZ8>0),MAX(0,AZ8+BA8-MIN(Schulden!G20,AZ8+BA8)),0)+IF(AND(Schulden!J21<Schulden!J12,BD8>0),MAX(0,BD8+BE8-MIN(Schulden!G21,BD8+BE8)),0)+IF(AND(Schulden!J22<Schulden!J12,BH8>0),MAX(0,BH8+BI8-MIN(Schulden!G22,BH8+BI8)),0))),MAX(0,T8+U8-MIN(Schulden!G12,T8+U8)))+SUMIFS(Sonderzahlungen!$D$8:$D$67,Sonderzahlungen!$G$8:$G$67,$B8,Sonderzahlungen!$E$8:$E$67,"Gezielte Schuld",Sonderzahlungen!$F$8:$F$67,Schulden!B12))) | W8: =MAX(0,T8+U8-V8) | X8: =IF(Schulden!C13="",0,Schulden!E13) | Y8: =IF(X8<=0,0,X8*Schulden!F13/12) | Z8: =IF(X8<=0,0,MIN(X8+Y8,MIN(Schulden!G13,X8+Y8)+MIN(MAX(0,Strategie!$C$9+SUMIFS(Sonderzahlungen!$D$8:$D$67,Sonderzahlungen!$G$8:$G$67,$B8,Sonderzahlungen!$E$8:$E$67,"Nach Strategie")-(IF(AND(Schulden!J8<Schulden!J13,D8>0),MAX(0,D8+E8-MIN(Schulden!G8,D8+E8)),0)+IF(AND(Schulden!J9<Schulden!J13,H8>0),MAX(0,H8+I8-MIN(Schulden!G9,H8+I8)),0)+IF(AND(Schulden!J10<Schulden!J13,L8>0),MAX(0,L8+M8-MIN(Schulden!G10,L8+M8)),0)+IF(AND(Schulden!J11<Schulden!J13,P8>0),MAX(0,P8+Q8-MIN(Schulden!G11,P8+Q8)),0)+IF(AND(Schulden!J12<Schulden!J13,T8>0),MAX(0,T8+U8-MIN(Schulden!G12,T8+U8)),0)+IF(AND(Schulden!J13<Schulden!J13,X8>0),MAX(0,X8+Y8-MIN(Schulden!G13,X8+Y8)),0)+IF(AND(Schulden!J14<Schulden!J13,AB8>0),MAX(0,AB8+AC8-MIN(Schulden!G14,AB8+AC8)),0)+IF(AND(Schulden!J15<Schulden!J13,AF8>0),MAX(0,AF8+AG8-MIN(Schulden!G15,AF8+AG8)),0)+IF(AND(Schulden!J16<Schulden!J13,AJ8>0),MAX(0,AJ8+AK8-MIN(Schulden!G16,AJ8+AK8)),0)+IF(AND(Schulden!J17<Schulden!J13,AN8>0),MAX(0,AN8+AO8-MIN(Schulden!G17,AN8+AO8)),0)+IF(AND(Schulden!J18<Schulden!J13,AR8>0),MAX(0,AR8+AS8-MIN(Schulden!G18,AR8+AS8)),0)+IF(AND(Schulden!J19<Schulden!J13,AV8>0),MAX(0,AV8+AW8-MIN(Schulden!G19,AV8+AW8)),0)+IF(AND(Schulden!J20<Schulden!J13,AZ8>0),MAX(0,AZ8+BA8-MIN(Schulden!G20,AZ8+BA8)),0)+IF(AND(Schulden!J21<Schulden!J13,BD8>0),MAX(0,BD8+BE8-MIN(Schulden!G21,BD8+BE8)),0)+IF(AND(Schulden!J22<Schulden!J13,BH8>0),MAX(0,BH8+BI8-MIN(Schulden!G22,BH8+BI8)),0))),MAX(0,X8+Y8-MIN(Schulden!G13,X8+Y8)))+SUMIFS(Sonderzahlungen!$D$8:$D$67,Sonderzahlungen!$G$8:$G$67,$B8,Sonderzahlungen!$E$8:$E$67,"Gezielte Schuld",Sonderzahlungen!$F$8:$F$67,Schulden!B13))) | AA8: =MAX(0,X8+Y8-Z8) | AB8: =IF(Schulden!C14="",0,Schulden!E14) | AC8: =IF(AB8<=0,0,AB8*Schulden!F14/12) | AD8: =IF(AB8<=0,0,MIN(AB8+AC8,MIN(Schulden!G14,AB8+AC8)+MIN(MAX(0,Strategie!$C$9+SUMIFS(Sonderzahlungen!$D$8:$D$67,Sonderzahlungen!$G$8:$G$67,$B8,Sonderzahlungen!$E$8:$E$67,"Nach Strategie")-(IF(AND(Schulden!J8<Schulden!J14,D8>0),MAX(0,D8+E8-MIN(Schulden!G8,D8+E8)),0)+IF(AND(Schulden!J9<Schulden!J14,H8>0),MAX(0,H8+I8-MIN(Schulden!G9,H8+I8)),0)+IF(AND(Schulden!J10<Schulden!J14,L8>0),MAX(0,L8+M8-MIN(Schulden!G10,L8+M8)),0)+IF(AND(Schulden!J11<Schulden!J14,P8>0),MAX(0,P8+Q8-MIN(Schulden!G11,P8+Q8)),0)+IF(AND(Schulden!J12<Schulden!J14,T8>0),MAX(0,T8+U8-MIN(Schulden!G12,T8+U8)),0)+IF(AND(Schulden!J13<Schulden!J14,X8>0),MAX(0,X8+Y8-MIN(Schulden!G13,X8+Y8)),0)+IF(AND(Schulden!J14<Schulden!J14,AB8>0),MAX(0,AB8+AC8-MIN(Schulden!G14,AB8+AC8)),0)+IF(AND(Schulden!J15<Schulden!J14,AF8>0),MAX(0,AF8+AG8-MIN(Schulden!G15,AF8+AG8)),0)+IF(AND(Schulden!J16<Schulden!J14,AJ8>0),MAX(0,AJ8+AK8-MIN(Schulden!G16,AJ8+AK8)),0)+IF(AND(Schulden!J17<Schulden!J14,AN8>0),MAX(0,AN8+AO8-MIN(Schulden!G17,AN8+AO8)),0)+IF(AND(Schulden!J18<Schulden!J14,AR8>0),MAX(0,AR8+AS8-MIN(Schulden!G18,AR8+AS8)),0)+IF(AND(Schulden!J19<Schulden!J14,AV8>0),MAX(0,AV8+AW8-MIN(Schulden!G19,AV8+AW8)),0)+IF(AND(Schulden!J20<Schulden!J14,AZ8>0),MAX(0,AZ8+BA8-MIN(Schulden!G20,AZ8+BA8)),0)+IF(AND(Schulden!J21<Schulden!J14,BD8>0),MAX(0,BD8+BE8-MIN(Schulden!G21,BD8+BE8)),0)+IF(AND(Schulden!J22<Schulden!J14,BH8>0),MAX(0,BH8+BI8-MIN(Schulden!G22,BH8+BI8)),0))),MAX(0,AB8+AC8-MIN(Schulden!G14,AB8+AC8)))+SUMIFS(Sonderzahlungen!$D$8:$D$67,Sonderzahlungen!$G$8:$G$67,$B8,Sonderzahlungen!$E$8:$E$67,"Gezielte Schuld",Sonderzahlungen!$F$8:$F$67,Schulden!B14))) | AE8: =MAX(0,AB8+AC8-AD8) | AF8: =IF(Schulden!C15="",0,Schulden!E15) | AG8: =IF(AF8<=0,0,AF8*Schulden!F15/12) | AH8: =IF(AF8<=0,0,MIN(AF8+AG8,MIN(Schulden!G15,AF8+AG8)+MIN(MAX(0,Strategie!$C$9+SUMIFS(Sonderzahlungen!$D$8:$D$67,Sonderzahlungen!$G$8:$G$67,$B8,Sonderzahlungen!$E$8:$E$67,"Nach Strategie")-(IF(AND(Schulden!J8<Schulden!J15,D8>0),MAX(0,D8+E8-MIN(Schulden!G8,D8+E8)),0)+IF(AND(Schulden!J9<Schulden!J15,H8>0),MAX(0,H8+I8-MIN(Schulden!G9,H8+I8)),0)+IF(AND(Schulden!J10<Schulden!J15,L8>0),MAX(0,L8+M8-MIN(Schulden!G10,L8+M8)),0)+IF(AND(Schulden!J11<Schulden!J15,P8>0),MAX(0,P8+Q8-MIN(Schulden!G11,P8+Q8)),0)+IF(AND(Schulden!J12<Schulden!J15,T8>0),MAX(0,T8+U8-MIN(Schulden!G12,T8+U8)),0)+IF(AND(Schulden!J13<Schulden!J15,X8>0),MAX(0,X8+Y8-MIN(Schulden!G13,X8+Y8)),0)+IF(AND(Schulden!J14<Schulden!J15,AB8>0),MAX(0,AB8+AC8-MIN(Schulden!G14,AB8+AC8)),0)+IF(AND(Schulden!J15<Schulden!J15,AF8>0),MAX(0,AF8+AG8-MIN(Schulden!G15,AF8+AG8)),0)+IF(AND(Schulden!J16<Schulden!J15,AJ8>0),MAX(0,AJ8+AK8-MIN(Schulden!G16,AJ8+AK8)),0)+IF(AND(Schulden!J17<Schulden!J15,AN8>0),MAX(0,AN8+AO8-MIN(Schulden!G17,AN8+AO8)),0)+IF(AND(Schulden!J18<Schulden!J15,AR8>0),MAX(0,AR8+AS8-MIN(Schulden!G18,AR8+AS8)),0)+IF(AND(Schulden!J19<Schulden!J15,AV8>0),MAX(0,AV8+AW8-MIN(Schulden!G19,AV8+AW8)),0)+IF(AND(Schulden!J20<Schulden!J15,AZ8>0),MAX(0,AZ8+BA8-MIN(Schulden!G20,AZ8+BA8)),0)+IF(AND(Schulden!J21<Schulden!J15,BD8>0),MAX(0,BD8+BE8-MIN(Schulden!G21,BD8+BE8)),0)+IF(AND(Schulden!J22<Schulden!J15,BH8>0),MAX(0,BH8+BI8-MIN(Schulden!G22,BH8+BI8)),0))),MAX(0,AF8+AG8-MIN(Schulden!G15,AF8+AG8)))+SUMIFS(Sonderzahlungen!$D$8:$D$67,Sonderzahlungen!$G$8:$G$67,$B8,Sonderzahlungen!$E$8:$E$67,"Gezielte Schuld",Sonderzahlungen!$F$8:$F$67,Schulden!B15))) | AI8: =MAX(0,AF8+AG8-AH8) | AJ8: =IF(Schulden!C16="",0,Schulden!E16) | AK8: =IF(AJ8<=0,0,AJ8*Schulden!F16/12) | AL8: =IF(AJ8<=0,0,MIN(AJ8+AK8,MIN(Schulden!G16,AJ8+AK8)+MIN(MAX(0,Strategie!$C$9+SUMIFS(Sonderzahlungen!$D$8:$D$67,Sonderzahlungen!$G$8:$G$67,$B8,Sonderzahlungen!$E$8:$E$67,"Nach Strategie")-(IF(AND(Schulden!J8<Schulden!J16,D8>0),MAX(0,D8+E8-MIN(Schulden!G8,D8+E8)),0)+IF(AND(Schulden!J9<Schulden!J16,H8>0),MAX(0,H8+I8-MIN(Schulden!G9,H8+I8)),0)+IF(AND(Schulden!J10<Schulden!J16,L8>0),MAX(0,L8+M8-MIN(Schulden!G10,L8+M8)),0)+IF(AND(Schulden!J11<Schulden!J16,P8>0),MAX(0,P8+Q8-MIN(Schulden!G11,P8+Q8)),0)+IF(AND(Schulden!J12<Schulden!J16,T8>0),MAX(0,T8+U8-MIN(Schulden!G12,T8+U8)),0)+IF(AND(Schulden!J13<Schulden!J16,X8>0),MAX(0,X8+Y8-MIN(Schulden!G13,X8+Y8)),0)+IF(AND(Schulden!J14<Schulden!J16,AB8>0),MAX(0,AB8+AC8-MIN(Schulden!G14,AB8+AC8)),0)+IF(AND(Schulden!J15<Schulden!J16,AF8>0),MAX(0,AF8+AG8-MIN(Schulden!G15,AF8+AG8)),0)+IF(AND(Schulden!J16<Schulden!J16,AJ8>0),MAX(0,AJ8+AK8-MIN(Schulden!G16,AJ8+AK8)),0)+IF(AND(Schulden!J17<Schulden!J16,AN8>0),MAX(0,AN8+AO8-MIN(Schulden!G17,AN8+AO8)),0)+IF(AND(Schulden!J18<Schulden!J16,AR8>0),MAX(0,AR8+AS8-MIN(Schulden!G18,AR8+AS8)),0)+IF(AND(Schulden!J19<Schulden!J16,AV8>0),MAX(0,AV8+AW8-MIN(Schulden!G19,AV8+AW8)),0)+IF(AND(Schulden!J20<Schulden!J16,AZ8>0),MAX(0,AZ8+BA8-MIN(Schulden!G20,AZ8+BA8)),0)+IF(AND(Schulden!J21<Schulden!J16,BD8>0),MAX(0,BD8+BE8-MIN(Schulden!G21,BD8+BE8)),0)+IF(AND(Schulden!J22<Schulden!J16,BH8>0),MAX(0,BH8+BI8-MIN(Schulden!G22,BH8+BI8)),0))),MAX(0,AJ8+AK8-MIN(Schulden!G16,AJ8+AK8)))+SUMIFS(Sonderzahlungen!$D$8:$D$67,Sonderzahlungen!$G$8:$G$67,$B8,Sonderzahlungen!$E$8:$E$67,"Gezielte Schuld",Sonderzahlungen!$F$8:$F$67,Schulden!B16))) | AM8: =MAX(0,AJ8+AK8-AL8) | AN8: =IF(Schulden!C17="",0,Schulden!E17) | AO8: =IF(AN8<=0,0,AN8*Schulden!F17/12) | AP8: =IF(AN8<=0,0,MIN(AN8+AO8,MIN(Schulden!G17,AN8+AO8)+MIN(MAX(0,Strategie!$C$9+SUMIFS(Sonderzahlungen!$D$8:$D$67,Sonderzahlungen!$G$8:$G$67,$B8,Sonderzahlungen!$E$8:$E$67,"Nach Strategie")-(IF(AND(Schulden!J8<Schulden!J17,D8>0),MAX(0,D8+E8-MIN(Schulden!G8,D8+E8)),0)+IF(AND(Schulden!J9<Schulden!J17,H8>0),MAX(0,H8+I8-MIN(Schulden!G9,H8+I8)),0)+IF(AND(Schulden!J10<Schulden!J17,L8>0),MAX(0,L8+M8-MIN(Schulden!G10,L8+M8)),0)+IF(AND(Schulden!J11<Schulden!J17,P8>0),MAX(0,P8+Q8-MIN(Schulden!G11,P8+Q8)),0)+IF(AND(Schulden!J12<Schulden!J17,T8>0),MAX(0,T8+U8-MIN(Schulden!G12,T8+U8)),0)+IF(AND(Schulden!J13<Schulden!J17,X8>0),MAX(0,X8+Y8-MIN(Schulden!G13,X8+Y8)),0)+IF(AND(Schulden!J14<Schulden!J17,AB8>0),MAX(0,AB8+AC8-MIN(Schulden!G14,AB8+AC8)),0)+IF(AND(Schulden!J15<Schulden!J17,AF8>0),MAX(0,AF8+AG8-MIN(Schulden!G15,AF8+AG8)),0)+IF(AND(Schulden!J16<Schulden!J17,AJ8>0),MAX(0,AJ8+AK8-MIN(Schulden!G16,AJ8+AK8)),0)+IF(AND(Schulden!J17<Schulden!J17,AN8>0),MAX(0,AN8+AO8-MIN(Schulden!G17,AN8+AO8)),0)+IF(AND(Schulden!J18<Schulden!J17,AR8>0),MAX(0,AR8+AS8-MIN(Schulden!G18,AR8+AS8)),0)+IF(AND(Schulden!J19<Schulden!J17,AV8>0),MAX(0,AV8+AW8-MIN(Schulden!G19,AV8+AW8)),0)+IF(AND(Schulden!J20<Schulden!J17,AZ8>0),MAX(0,AZ8+BA8-MIN(Schulden!G20,AZ8+BA8)),0)+IF(AND(Schulden!J21<Schulden!J17,BD8>0),MAX(0,BD8+BE8-MIN(Schulden!G21,BD8+BE8)),0)+IF(AND(Schulden!J22<Schulden!J17,BH8>0),MAX(0,BH8+BI8-MIN(Schulden!G22,BH8+BI8)),0))),MAX(0,AN8+AO8-MIN(Schulden!G17,AN8+AO8)))+SUMIFS(Sonderzahlungen!$D$8:$D$67,Sonderzahlungen!$G$8:$G$67,$B8,Sonderzahlungen!$E$8:$E$67,"Gezielte Schuld",Sonderzahlungen!$F$8:$F$67,Schulden!B17))) | AQ8: =MAX(0,AN8+AO8-AP8) | AR8: =IF(Schulden!C18="",0,Schulden!E18) | AS8: =IF(AR8<=0,0,AR8*Schulden!F18/12) | AT8: =IF(AR8<=0,0,MIN(AR8+AS8,MIN(Schulden!G18,AR8+AS8)+MIN(MAX(0,Strategie!$C$9+SUMIFS(Sonderzahlungen!$D$8:$D$67,Sonderzahlungen!$G$8:$G$67,$B8,Sonderzahlungen!$E$8:$E$67,"Nach Strategie")-(IF(AND(Schulden!J8<Schulden!J18,D8>0),MAX(0,D8+E8-MIN(Schulden!G8,D8+E8)),0)+IF(AND(Schulden!J9<Schulden!J18,H8>0),MAX(0,H8+I8-MIN(Schulden!G9,H8+I8)),0)+IF(AND(Schulden!J10<Schulden!J18,L8>0),MAX(0,L8+M8-MIN(Schulden!G10,L8+M8)),0)+IF(AND(Schulden!J11<Schulden!J18,P8>0),MAX(0,P8+Q8-MIN(Schulden!G11,P8+Q8)),0)+IF(AND(Schulden!J12<Schulden!J18,T8>0),MAX(0,T8+U8-MIN(Schulden!G12,T8+U8)),0)+IF(AND(Schulden!J13<Schulden!J18,X8>0),MAX(0,X8+Y8-MIN(Schulden!G13,X8+Y8)),0)+IF(AND(Schulden!J14<Schulden!J18,AB8>0),MAX(0,AB8+AC8-MIN(Schulden!G14,AB8+AC8)),0)+IF(AND(Schulden!J15<Schulden!J18,AF8>0),MAX(0,AF8+AG8-MIN(Schulden!G15,AF8+AG8)),0)+IF(AND(Schulden!J16<Schulden!J18,AJ8>0),MAX(0,AJ8+AK8-MIN(Schulden!G16,AJ8+AK8)),0)+IF(AND(Schulden!J17<Schulden!J18,AN8>0),MAX(0,AN8+AO8-MIN(Schulden!G17,AN8+AO8)),0)+IF(AND(Schulden!J18<Schulden!J18,AR8>0),MAX(0,AR8+AS8-MIN(Schulden!G18,AR8+AS8)),0)+IF(AND(Schulden!J19<Schulden!J18,AV8>0),MAX(0,AV8+AW8-MIN(Schulden!G19,AV8+AW8)),0)+IF(AND(Schulden!J20<Schulden!J18,AZ8>0),MAX(0,AZ8+BA8-MIN(Schulden!G20,AZ8+BA8)),0)+IF(AND(Schulden!J21<Schulden!J18,BD8>0),MAX(0,BD8+BE8-MIN(Schulden!G21,BD8+BE8)),0)+IF(AND(Schulden!J22<Schulden!J18,BH8>0),MAX(0,BH8+BI8-MIN(Schulden!G22,BH8+BI8)),0))),MAX(0,AR8+AS8-MIN(Schulden!G18,AR8+AS8)))+SUMIFS(Sonderzahlungen!$D$8:$D$67,Sonderzahlungen!$G$8:$G$67,$B8,Sonderzahlungen!$E$8:$E$67,"Gezielte Schuld",Sonderzahlungen!$F$8:$F$67,Schulden!B18))) | AU8: =MAX(0,AR8+AS8-AT8) | AV8: =IF(Schulden!C19="",0,Schulden!E19) | AW8: =IF(AV8<=0,0,AV8*Schulden!F19/12) | AX8: =IF(AV8<=0,0,MIN(AV8+AW8,MIN(Schulden!G19,AV8+AW8)+MIN(MAX(0,Strategie!$C$9+SUMIFS(Sonderzahlungen!$D$8:$D$67,Sonderzahlungen!$G$8:$G$67,$B8,Sonderzahlungen!$E$8:$E$67,"Nach Strategie")-(IF(AND(Schulden!J8<Schulden!J19,D8>0),MAX(0,D8+E8-MIN(Schulden!G8,D8+E8)),0)+IF(AND(Schulden!J9<Schulden!J19,H8>0),MAX(0,H8+I8-MIN(Schulden!G9,H8+I8)),0)+IF(AND(Schulden!J10<Schulden!J19,L8>0),MAX(0,L8+M8-MIN(Schulden!G10,L8+M8)),0)+IF(AND(Schulden!J11<Schulden!J19,P8>0),MAX(0,P8+Q8-MIN(Schulden!G11,P8+Q8)),0)+IF(AND(Schulden!J12<Schulden!J19,T8>0),MAX(0,T8+U8-MIN(Schulden!G12,T8+U8)),0)+IF(AND(Schulden!J13<Schulden!J19,X8>0),MAX(0,X8+Y8-MIN(Schulden!G13,X8+Y8)),0)+IF(AND(Schulden!J14<Schulden!J19,AB8>0),MAX(0,AB8+AC8-MIN(Schulden!G14,AB8+AC8)),0)+IF(AND(Schulden!J15<Schulden!J19,AF8>0),MAX(0,AF8+AG8-MIN(Schulden!G15,AF8+AG8)),0)+IF(AND(Schulden!J16<Schulden!J19,AJ8>0),MAX(0,AJ8+AK8-MIN(Schulden!G16,AJ8+AK8)),0)+IF(AND(Schulden!J17<Schulden!J19,AN8>0),MAX(0,AN8+AO8-MIN(Schulden!G17,AN8+AO8)),0)+IF(AND(Schulden!J18<Schulden!J19,AR8>0),MAX(0,AR8+AS8-MIN(Schulden!G18,AR8+AS8)),0)+IF(AND(Schulden!J19<Schulden!J19,AV8>0),MAX(0,AV8+AW8-MIN(Schulden!G19,AV8+AW8)),0)+IF(AND(Schulden!J20<Schulden!J19,AZ8>0),MAX(0,AZ8+BA8-MIN(Schulden!G20,AZ8+BA8)),0)+IF(AND(Schulden!J21<Schulden!J19,BD8>0),MAX(0,BD8+BE8-MIN(Schulden!G21,BD8+BE8)),0)+IF(AND(Schulden!J22<Schulden!J19,BH8>0),MAX(0,BH8+BI8-MIN(Schulden!G22,BH8+BI8)),0))),MAX(0,AV8+AW8-MIN(Schulden!G19,AV8+AW8)))+SUMIFS(Sonderzahlungen!$D$8:$D$67,Sonderzahlungen!$G$8:$G$67,$B8,Sonderzahlungen!$E$8:$E$67,"Gezielte Schuld",Sonderzahlungen!$F$8:$F$67,Schulden!B19))) | AY8: =MAX(0,AV8+AW8-AX8) | AZ8: =IF(Schulden!C20="",0,Schulden!E20) | BA8: =IF(AZ8<=0,0,AZ8*Schulden!F20/12) | BB8: =IF(AZ8<=0,0,MIN(AZ8+BA8,MIN(Schulden!G20,AZ8+BA8)+MIN(MAX(0,Strategie!$C$9+SUMIFS(Sonderzahlungen!$D$8:$D$67,Sonderzahlungen!$G$8:$G$67,$B8,Sonderzahlungen!$E$8:$E$67,"Nach Strategie")-(IF(AND(Schulden!J8<Schulden!J20,D8>0),MAX(0,D8+E8-MIN(Schulden!G8,D8+E8)),0)+IF(AND(Schulden!J9<Schulden!J20,H8>0),MAX(0,H8+I8-MIN(Schulden!G9,H8+I8)),0)+IF(AND(Schulden!J10<Schulden!J20,L8>0),MAX(0,L8+M8-MIN(Schulden!G10,L8+M8)),0)+IF(AND(Schulden!J11<Schulden!J20,P8>0),MAX(0,P8+Q8-MIN(Schulden!G11,P8+Q8)),0)+IF(AND(Schulden!J12<Schulden!J20,T8>0),MAX(0,T8+U8-MIN(Schulden!G12,T8+U8)),0)+IF(AND(Schulden!J13<Schulden!J20,X8>0),MAX(0,X8+Y8-MIN(Schulden!G13,X8+Y8)),0)+IF(AND(Schulden!J14<Schulden!J20,AB8>0),MAX(0,AB8+AC8-MIN(Schulden!G14,AB8+AC8)),0)+IF(AND(Schulden!J15<Schulden!J20,AF8>0),MAX(0,AF8+AG8-MIN(Schulden!G15,AF8+AG8)),0)+IF(AND(Schulden!J16<Schulden!J20,AJ8>0),MAX(0,AJ8+AK8-MIN(Schulden!G16,AJ8+AK8)),0)+IF(AND(Schulden!J17<Schulden!J20,AN8>0),MAX(0,AN8+AO8-MIN(Schulden!G17,AN8+AO8)),0)+IF(AND(Schulden!J18<Schulden!J20,AR8>0),MAX(0,AR8+AS8-MIN(Schulden!G18,AR8+AS8)),0)+IF(AND(Schulden!J19<Schulden!J20,AV8>0),MAX(0,AV8+AW8-MIN(Schulden!G19,AV8+AW8)),0)+IF(AND(Schulden!J20<Schulden!J20,AZ8>0),MAX(0,AZ8+BA8-MIN(Schulden!G20,AZ8+BA8)),0)+IF(AND(Schulden!J21<Schulden!J20,BD8>0),MAX(0,BD8+BE8-MIN(Schulden!G21,BD8+BE8)),0)+IF(AND(Schulden!J22<Schulden!J20,BH8>0),MAX(0,BH8+BI8-MIN(Schulden!G22,BH8+BI8)),0))),MAX(0,AZ8+BA8-MIN(Schulden!G20,AZ8+BA8)))+SUMIFS(Sonderzahlungen!$D$8:$D$67,Sonderzahlungen!$G$8:$G$67,$B8,Sonderzahlungen!$E$8:$E$67,"Gezielte Schuld",Sonderzahlungen!$F$8:$F$67,Schulden!B20))) | BC8: =MAX(0,AZ8+BA8-BB8) | BD8: =IF(Schulden!C21="",0,Schulden!E21) | BE8: =IF(BD8<=0,0,BD8*Schulden!F21/12) | BF8: =IF(BD8<=0,0,MIN(BD8+BE8,MIN(Schulden!G21,BD8+BE8)+MIN(MAX(0,Strategie!$C$9+SUMIFS(Sonderzahlungen!$D$8:$D$67,Sonderzahlungen!$G$8:$G$67,$B8,Sonderzahlungen!$E$8:$E$67,"Nach Strategie")-(IF(AND(Schulden!J8<Schulden!J21,D8>0),MAX(0,D8+E8-MIN(Schulden!G8,D8+E8)),0)+IF(AND(Schulden!J9<Schulden!J21,H8>0),MAX(0,H8+I8-MIN(Schulden!G9,H8+I8)),0)+IF(AND(Schulden!J10<Schulden!J21,L8>0),MAX(0,L8+M8-MIN(Schulden!G10,L8+M8)),0)+IF(AND(Schulden!J11<Schulden!J21,P8>0),MAX(0,P8+Q8-MIN(Schulden!G11,P8+Q8)),0)+IF(AND(Schulden!J12<Schulden!J21,T8>0),MAX(0,T8+U8-MIN(Schulden!G12,T8+U8)),0)+IF(AND(Schulden!J13<Schulden!J21,X8>0),MAX(0,X8+Y8-MIN(Schulden!G13,X8+Y8)),0)+IF(AND(Schulden!J14<Schulden!J21,AB8>0),MAX(0,AB8+AC8-MIN(Schulden!G14,AB8+AC8)),0)+IF(AND(Schulden!J15<Schulden!J21,AF8>0),MAX(0,AF8+AG8-MIN(Schulden!G15,AF8+AG8)),0)+IF(AND(Schulden!J16<Schulden!J21,AJ8>0),MAX(0,AJ8+AK8-MIN(Schulden!G16,AJ8+AK8)),0)+IF(AND(Schulden!J17<Schulden!J21,AN8>0),MAX(0,AN8+AO8-MIN(Schulden!G17,AN8+AO8)),0)+IF(AND(Schulden!J18<Schulden!J21,AR8>0),MAX(0,AR8+AS8-MIN(Schulden!G18,AR8+AS8)),0)+IF(AND(Schulden!J19<Schulden!J21,AV8>0),MAX(0,AV8+AW8-MIN(Schulden!G19,AV8+AW8)),0)+IF(AND(Schulden!J20<Schulden!J21,AZ8>0),MAX(0,AZ8+BA8-MIN(Schulden!G20,AZ8+BA8)),0)+IF(AND(Schulden!J21<Schulden!J21,BD8>0),MAX(0,BD8+BE8-MIN(Schulden!G21,BD8+BE8)),0)+IF(AND(Schulden!J22<Schulden!J21,BH8>0),MAX(0,BH8+BI8-MIN(Schulden!G22,BH8+BI8)),0))),MAX(0,BD8+BE8-MIN(Schulden!G21,BD8+BE8)))+SUMIFS(Sonderzahlungen!$D$8:$D$67,Sonderzahlungen!$G$8:$G$67,$B8,Sonderzahlungen!$E$8:$E$67,"Gezielte Schuld",Sonderzahlungen!$F$8:$F$67,Schulden!B21))) | BG8: =MAX(0,BD8+BE8-BF8) | BH8: =IF(Schulden!C22="",0,Schulden!E22) | BI8: =IF(BH8<=0,0,BH8*Schulden!F22/12) | BJ8: =IF(BH8<=0,0,MIN(BH8+BI8,MIN(Schulden!G22,BH8+BI8)+MIN(MAX(0,Strategie!$C$9+SUMIFS(Sonderzahlungen!$D$8:$D$67,Sonderzahlungen!$G$8:$G$67,$B8,Sonderzahlungen!$E$8:$E$67,"Nach Strategie")-(IF(AND(Schulden!J8<Schulden!J22,D8>0),MAX(0,D8+E8-MIN(Schulden!G8,D8+E8)),0)+IF(AND(Schulden!J9<Schulden!J22,H8>0),MAX(0,H8+I8-MIN(Schulden!G9,H8+I8)),0)+IF(AND(Schulden!J10<Schulden!J22,L8>0),MAX(0,L8+M8-MIN(Schulden!G10,L8+M8)),0)+IF(AND(Schulden!J11<Schulden!J22,P8>0),MAX(0,P8+Q8-MIN(Schulden!G11,P8+Q8)),0)+IF(AND(Schulden!J12<Schulden!J22,T8>0),MAX(0,T8+U8-MIN(Schulden!G12,T8+U8)),0)+IF(AND(Schulden!J13<Schulden!J22,X8>0),MAX(0,X8+Y8-MIN(Schulden!G13,X8+Y8)),0)+IF(AND(Schulden!J14<Schulden!J22,AB8>0),MAX(0,AB8+AC8-MIN(Schulden!G14,AB8+AC8)),0)+IF(AND(Schulden!J15<Schulden!J22,AF8>0),MAX(0,AF8+AG8-MIN(Schulden!G15,AF8+AG8)),0)+IF(AND(Schulden!J16<Schulden!J22,AJ8>0),MAX(0,AJ8+AK8-MIN(Schulden!G16,AJ8+AK8)),0)+IF(AND(Schulden!J17<Schulden!J22,AN8>0),MAX(0,AN8+AO8-MIN(Schulden!G17,AN8+AO8)),0)+IF(AND(Schulden!J18<Schulden!J22,AR8>0),MAX(0,AR8+AS8-MIN(Schulden!G18,AR8+AS8)),0)+IF(AND(Schulden!J19<Schulden!J22,AV8>0),MAX(0,AV8+AW8-MIN(Schulden!G19,AV8+AW8)),0)+IF(AND(Schulden!J20<Schulden!J22,AZ8>0),MAX(0,AZ8+BA8-MIN(Schulden!G20,AZ8+BA8)),0)+IF(AND(Schulden!J21<Schulden!J22,BD8>0),MAX(0,BD8+BE8-MIN(Schulden!G21,BD8+BE8)),0)+IF(AND(Schulden!J22<Schulden!J22,BH8>0),MAX(0,BH8+BI8-MIN(Schulden!G22,BH8+BI8)),0))),MAX(0,BH8+BI8-MIN(Schulden!G22,BH8+BI8)))+SUMIFS(Sonderzahlungen!$D$8:$D$67,Sonderzahlungen!$G$8:$G$67,$B8,Sonderzahlungen!$E$8:$E$67,"Gezielte Schuld",Sonderzahlungen!$F$8:$F$67,Schulden!B22))) | BK8: =MAX(0,BH8+BI8-BJ8)
